BEGIN:VCALENDAR
VERSION:2.0
PRODID:-//Tukios.com/
BEGIN:VEVENT
UID:f9ba6eca-bf53-4a3e-877e-13f951ef1d0e@www.russellfuneralservice.com
DTSTAMP:20260421T014632Z
DTSTART:20260428T153000Z
DTEND:20260428T160000Z
SUMMARY:Visitation
DESCRIPTION:
URL:https://www.russellfuneralservice.com/obituaries/thomas-moncrief
LOCATION:Ministry for Christ 2341 N. Patterson Avenue  Winston-Salem NC 
	27105
GEO:36.1192802;-80.2416524
END:VEVENT
END:VCALENDAR