BEGIN:VCALENDAR
VERSION:2.0
PRODID:-//Tukios.com/
BEGIN:VEVENT
UID:c661fd8b-831b-43f5-a3b6-29a96c844b7f@www.russellfuneralservice.com
DTSTAMP:20260421T013842Z
DTSTART:20260428T160000Z
DTEND:20260428T170000Z
SUMMARY:Funeral Service
DESCRIPTION:
URL:https://www.russellfuneralservice.com/obituaries/thomas-moncrief
LOCATION: 2341 N. Patterson Avenue  Winston-Salem NC 27105
GEO:36.1192802;-80.2416524
END:VEVENT
END:VCALENDAR