BEGIN:VCALENDAR
VERSION:2.0
PRODID:-//Tukios.com/
BEGIN:VEVENT
UID:bcffa655-374f-4b04-a1e5-1a07f86852ef@www.russellfuneralservice.com
DTSTAMP:20260421T014519Z
DTSTART:20260428T183000Z
DTEND:20260428T193000Z
SUMMARY:Interment
DESCRIPTION:
URL:https://www.russellfuneralservice.com/obituaries/thomas-moncrief
LOCATION: 501 Statesville Blvd  Salisbury NC 28144
GEO:35.6839912;-80.4945216
END:VEVENT
END:VCALENDAR