BEGIN:VCALENDAR
VERSION:2.0
PRODID:-//Tukios.com/
BEGIN:VEVENT
UID:8b2208a3-7ce2-47e5-9b7e-6d18590cd382@www.russellfuneralservice.com
DTSTAMP:20260421T014110Z
DTSTART:20260427T170000Z
DTEND:20260427T210000Z
SUMMARY:Viewing
DESCRIPTION:
URL:https://www.russellfuneralservice.com/obituaries/thomas-moncrief
LOCATION: 822 Carl Russell Avenue  Winston-Salem NC 27101
GEO:36.1048271;-80.2347465
END:VEVENT
END:VCALENDAR