BEGIN:VCALENDAR
VERSION:2.0
PRODID:-//Tukios.com/
BEGIN:VEVENT
UID:7081cc12-5f30-447b-9008-3a86027de8e3@www.russellfuneralservice.com
DTSTAMP:20260421T004057Z
DTSTART:20260423T160000Z
DTEND:20260423T170000Z
SUMMARY:Funeral Service
DESCRIPTION:
URL:https://www.russellfuneralservice.com/obituaries/jamiez-carter
LOCATION: 822 Carl Russell Avenue  Winston-Salem NC 27101
GEO:36.1048271;-80.2347465
END:VEVENT
END:VCALENDAR