BEGIN:VCALENDAR
VERSION:2.0
PRODID:-//Tukios.com/
BEGIN:VEVENT
UID:5006b1a8-4d77-4d53-9a5f-b9c6a7ec9205@www.russellfuneralservice.com
DTSTAMP:20260421T002746Z
DTSTART:20260423T150000Z
DTEND:20260423T160000Z
SUMMARY:Visitation
DESCRIPTION:
URL:https://www.russellfuneralservice.com/obituaries/jamiez-carter
LOCATION: 822 Carl Russell Avenue  Winston-Salem NC 27101
GEO:36.1048271;-80.2347465
END:VEVENT
END:VCALENDAR